{"text_format":"1","workbook":"xlsx","n_sheets":4,"sheets":["Stavangerseilasen","Startliste Skjema","Målgang Skjema","Baner og koordinater"],"not_rendered":{"charts":0,"images":1,"macros":1,"external_links":0,"defined_names":7,"comments":1,"pivot_tables":0},"unopened":[],"bounds":{"document_bytes":16777216,"sheet_cells":100000,"rows_first":2000,"rows_last":500,"rows_between":2000,"halvings":0,"cell_chars":16384,"cell_head_chars":4096},"cells_cut":0,"cells_raw":0,"read":"whole","date_system":"1900"}

{"sheet":"Stavangerseilasen","index":0,"n_rows":28,"n_cols":45,"rows_kept":28,"cut":false,"hidden":false,"merged":[[7,10,7,11],[6,29,6,35],[0,6,0,15],[4,10,4,11],[5,10,5,11],[6,10,6,11]]}
[{"$f":"C7*E2","v":0},null,null,null,null,null,"26.august 2017"]
["CW:",null,{"$f":"(0.65+1.3125/((IF($C$4>10,10,$C$4))-1.25))/0.915151515151515","v":2.6225165562913908},"Distansekorreksjon:",0]
["Ref NOR800 KB",null,{"$f":"MIN(I:I)","v":0},"Ref NOR800 LB",{"$f":"ROUNDUP(C3*E7/C7,3)","v":0}]
["Vindstyrke",null,2,"Retning","S"]
["Ref Nor-Rating\nKort Bane",null,{"$f":"MIN(H:H)","v":0.85289999999999999},"Ref Nor-Rating\nLang Bane",{"$f":"ROUNDUP(C5*E7/C7,3)","v":0.85299999999999998},null,null,null,null,"Starttidspunkt","Klasse 1",null,"Regatta",null,null,"13:00:00"]
["Kort Bane Nr.",null,1,"Lang Bane Nr.",2,null,null,null,null,"Starttidspunkt","Klasse 2",null,"Bedrift",null,null,"13:00:00"]
["Kort Distanse",null,4.9000000000000004,"Lang Distanse",{"$f":"C7","v":4.9000000000000004},null,null,null,null,"Starttidspunkt","Klasse 3",null,"Tur / Rekr",null,null,"13:00:00",null,null,null,null,null,null,null,null,null,null,null,null,null,"Registrering, Målgang"]
["Start / Plassering",null,"Båtnavn","Båttype","Skipper","Bedrift / Team","Spinn\nGen","Nor-Rating","Nor-Rating 800 sek","Klasse","Seil ID",null,"Seil\nforening","-","-","Start-tid Differanse","Bane Nr.","Distanse","Målgang","Regel\nbrudd","Tidstillegg Straff","Målgang + evt Straff eller RDG","Utseilt tid eksklusive straff","Utseilt tid inklusive straff","RR A11","Korrigert tid uten straffer","Korrigert tid med straffer","Korrigert tid til Kort distanse",null,"ID - siffer","t t","m m","s s","RR A11","Regel- \nbrudd","Målgang","Bane","Distanse","RR A11","Klasse","Zero delay","RR A11","Regel- \nbrudd","Regel- \nbrudd","Bane"]
[1,null,"Milestone","Jeanneau SY 43DS","Per Lund",null,null,null,{"$f":"H9*(8/6)","v":0},"Tur / Rekr","NOR",10250,"SS",{"$f":"IF(C9=0, \" \",IF(I9<$C$3,0,(($C$7+$A$1)*$C$2*800*(1/$C$3-1/I9))/86400))","v":{"$error":"#DIV/0!"}},{"$f":"IF(C9=0, \" \",IF(I9<$E$3,0,(($E$7+$A$1)*$C$2*800*(1/$E$3-1/I9))/86400))","v":{"$error":"#DIV/0!"}},null,{"$f":"IF(C9=0, \" \",IF(VLOOKUP(J9,$AN$8:$AS$12,6,FALSE)=1,1,IF(C9=0, \" \",IF(I9>=$E$3,$E$6,$C$6))))","v":1},{"$f":"IF(C9=0, \" \",IF(Q9=1,$C$7,$E$7))","v":4.9000000000000004},{"$f":"VLOOKUP(L9,AD:AJ,7,FALSE)","v":{"$error":"#N/A"}},{"$f":"IF(VLOOKUP(L9,AD:AJ,6,FALSE)=0,\" \",VLOOKUP(L9,AD:AJ,6,FALSE))","v":{"$error":"#N/A"}},{"$f":"VLOOKUP(T9,$AN$13:$AO$18,2,FALSE)","v":{"$error":"#N/A"}},{"$f":"IF(Y9<>0,AA9,IF(VLOOKUP(L9,AD:AR,15,FALSE)=0,S9,IF((VLOOKUP(L9,AD:AR,15,FALSE))=1,S9+U9,IF((VLOOKUP(L9,AD:AR,15,FALSE))>1,S9,S9+U9))))","v":{"$error":"#N/A"}},{"$f":"S9-(VLOOKUP(J9,$M$4:$P$7,4,FALSE))","v":{"$error":"#N/A"}},{"$f":"W9+U9","v":{"$error":"#N/A"}},{"$f":"IF(VLOOKUP(L9,AD:AJ,5,FALSE)=0,\" \",VLOOKUP(L9,AD:AJ,5,FALSE))","v":{"$error":"#N/A"}},{"$f":"W9*I9","v":{"$error":"#N/A"}},{"$f":"IF(VLOOKUP(L9,AD:AR,15,FALSE)=0,Z9,IF((VLOOKUP(L9,AD:AR,15,FALSE))=1,X9*I9,IF((VLOOKUP(L9,AD:AR,15,FALSE))>1,\"23:59:59\",0)))","v":{"$error":"#N/A"}},{"$f":"IF(R9=$C$7,Z9,Z9*$C$7/R9)","v":{"$error":"#N/A"}},null,null,null,null,null,null,null,{"$f":"AE9&\":\"&AF9&\":\"&AG9","v":"::"},1,{"$f":"'Baner og koordinater'!C2","v":10.1},"OCS","Bedrift",null,{"$f":"IF(AH9=\"\",0,2)","v":0},{"$f":"IF(AI9=\"\",0,1)","v":0},{"$f":"SUM(AP9:AQ9)","v":0},0]
[2,null,"INXS","Express","Graham Lord","INXS",null,null,0,"Regatta","NOR",708,"SS",{"$error":"#DIV/0!"},{"$error":"#DIV/0!"},null,2,4.9000000000000004,{"$error":"#N/A"},{"$error":"#N/A"},{"$error":"#N/A"},{"$error":"#N/A"},{"$error":"#N/A"},{"$error":"#N/A"},{"$error":"#N/A"},{"$error":"#N/A"},{"$error":"#N/A"},{"$error":"#N/A"},null,null,null,null,null,null,null,{"$f":"AE10&\":\"&AF10&\":\"&AG10","v":"::"},2,{"$f":"'Baner og koordinater'!F2","v":11.3},"DNC","Express",1,{"$f":"IF(AH10=\"\",0,2)","v":0},{"$f":"IF(AI10=\"\",0,1)","v":0},{"$f":"SUM(AP10:AQ10)","v":0},1]
[3,null,"Senilix","Express","Ole Jensen","Senilix",null,null,0,"Regatta","NOR",1090,"GS",{"$error":"#DIV/0!"},{"$error":"#DIV/0!"},null,2,4.9000000000000004,{"$error":"#N/A"},{"$error":"#N/A"},{"$error":"#N/A"},{"$error":"#N/A"},{"$error":"#N/A"},{"$error":"#N/A"},{"$error":"#N/A"},{"$error":"#N/A"},{"$error":"#N/A"},{"$error":"#N/A"},null,null,null,null,null,null,null,{"$f":"AE11&\":\"&AF11&\":\"&AG11","v":"::"},3,9,"DNF","Regatta",null,0,0,0,0]
[4,null,"Sydvest","Express","Håkon Bentsen Veholmen",null,null,null,0,"Regatta","NOR",517,"SS",{"$error":"#DIV/0!"},{"$error":"#DIV/0!"},null,2,4.9000000000000004,{"$error":"#N/A"},{"$error":"#N/A"},{"$error":"#N/A"},{"$error":"#N/A"},{"$error":"#N/A"},{"$error":"#N/A"},{"$error":"#N/A"},{"$error":"#N/A"},{"$error":"#N/A"},{"$error":"#N/A"},null,null,null,null,null,null,null,"::",4,12,"DNS","Tur / Rekr",1,0,0,0,1]
[5,null,"BALU","Express","Arne Christensen","BALU",null,null,0,"Regatta","NOR",1062,"SS",{"$error":"#DIV/0!"},{"$error":"#DIV/0!"},null,2,4.9000000000000004,{"$error":"#N/A"},{"$error":"#N/A"},{"$error":"#N/A"},{"$error":"#N/A"},{"$error":"#N/A"},{"$error":"#N/A"},{"$error":"#N/A"},{"$error":"#N/A"},{"$error":"#N/A"},{"$error":"#N/A"},null,null,null,null,null,null,null,"::",5,6,"DSQ","Straff","Penalty",0,0,0]
[6,null,"Angst","Express","Tom Thorsen",null,null,null,0,"Regatta","NOR",104,"SS",{"$error":"#DIV/0!"},{"$error":"#DIV/0!"},null,2,4.9000000000000004,{"$error":"#N/A"},{"$error":"#N/A"},{"$error":"#N/A"},{"$error":"#N/A"},{"$error":"#N/A"},{"$error":"#N/A"},{"$error":"#N/A"},{"$error":"#N/A"},{"$error":"#N/A"},{"$error":"#N/A"},null,null,null,null,null,null,null,"::",6,10,"RAF","SB 10.1 MRK","00:01:00",0,0,0]
[7,null,"Rainbow Express","Express","Trond Kjønnerød","Rainbow Express",null,null,0,"Regatta","NOR",344,"SS",{"$error":"#DIV/0!"},{"$error":"#DIV/0!"},null,2,4.9000000000000004,{"$error":"#N/A"},{"$error":"#N/A"},{"$error":"#N/A"},{"$error":"#N/A"},{"$error":"#N/A"},{"$error":"#N/A"},{"$error":"#N/A"},{"$error":"#N/A"},{"$error":"#N/A"},{"$error":"#N/A"},null,null,null,null,null,null,null,"::",7,7,"RDG","SB 10.2 ANN","00:03:00",0,0,0]
[8,null,"Raga Muffin","Express","Ian Ratcliffe","Team Malthus",null,null,0,"Regatta","NOR",354,"SF 1928",{"$error":"#DIV/0!"},{"$error":"#DIV/0!"},null,2,4.9000000000000004,{"$error":"#N/A"},{"$error":"#N/A"},{"$error":"#N/A"},{"$error":"#N/A"},{"$error":"#N/A"},{"$error":"#N/A"},{"$error":"#N/A"},{"$error":"#N/A"},{"$error":"#N/A"},{"$error":"#N/A"},null,null,null,null,null,null,null,"::",8,8,null,"SB 10.3 OCS","00:05:00",0,0,0]
[9,null,"Placebo","Express","Arne Rise",null,null,null,0,"Regatta","NOR",89,"SS",{"$error":"#DIV/0!"},{"$error":"#DIV/0!"},null,2,4.9000000000000004,{"$error":"#N/A"},{"$error":"#N/A"},{"$error":"#N/A"},{"$error":"#N/A"},{"$error":"#N/A"},{"$error":"#N/A"},{"$error":"#N/A"},{"$error":"#N/A"},{"$error":"#N/A"},{"$error":"#N/A"},null,null,null,null,null,null,null,"::",9,9,null,"SB 10.4 FRS","00:05:00",0,0,0]
[10,null,"Exit","Express","Einar Cederløv",null,null,null,0,"Regatta","NOR",734,"SS",{"$error":"#DIV/0!"},{"$error":"#DIV/0!"},null,2,4.9000000000000004,{"$error":"#N/A"},{"$error":"#N/A"},{"$error":"#N/A"},{"$error":"#N/A"},{"$error":"#N/A"},{"$error":"#N/A"},{"$error":"#N/A"},{"$error":"#N/A"},{"$error":"#N/A"},{"$error":"#N/A"},null,null,null,null,null,null,null,"::",10,10,null,"SB 10.4 MOT","00:05:00",0,0,0]
[11,null,"X-Menn","Express","Rune Nor-Hansen","X-Menn",null,null,0,"Regatta","NOR",946,"GS",{"$error":"#DIV/0!"},{"$error":"#DIV/0!"},null,2,4.9000000000000004,{"$error":"#N/A"},{"$error":"#N/A"},{"$error":"#N/A"},{"$error":"#N/A"},{"$error":"#N/A"},{"$error":"#N/A"},{"$error":"#N/A"},{"$error":"#N/A"},{"$error":"#N/A"},{"$error":"#N/A"},null,null,null,null,null,null,null,"::",null,null,null,null,null,0,0,0]
[12,null,"Reflex","Express","Stig Skjønhaug",null,null,null,0,"Regatta","NOR",86,"GS",{"$error":"#DIV/0!"},{"$error":"#DIV/0!"},null,2,4.9000000000000004,{"$error":"#N/A"},{"$error":"#N/A"},{"$error":"#N/A"},{"$error":"#N/A"},{"$error":"#N/A"},{"$error":"#N/A"},{"$error":"#N/A"},{"$error":"#N/A"},{"$error":"#N/A"},{"$error":"#N/A"},null,null,null,null,null,null,null,"::",null,null,null,null,null,0,0,0]
[13,null,"Brexit","Express","Erik Kristiansson","Brexit",null,null,0,"Regatta","NOR","96 / 155","SS",{"$error":"#DIV/0!"},{"$error":"#DIV/0!"},null,2,4.9000000000000004,{"$error":"#N/A"},{"$error":"#N/A"},{"$error":"#N/A"},{"$error":"#N/A"},{"$error":"#N/A"},{"$error":"#N/A"},{"$error":"#N/A"},{"$error":"#N/A"},{"$error":"#N/A"},{"$error":"#N/A"},null,null,null,null,null,null,null,"::",null,null,null,null,null,0,0,0]
[14,null,"Fars Cortina","Express","Rune Kartveit",null,null,null,0,"Regatta","NOR",211,"GS",{"$error":"#DIV/0!"},{"$error":"#DIV/0!"},null,2,4.9000000000000004,{"$error":"#N/A"},{"$error":"#N/A"},{"$error":"#N/A"},{"$error":"#N/A"},{"$error":"#N/A"},{"$error":"#N/A"},{"$error":"#N/A"},{"$error":"#N/A"},{"$error":"#N/A"},{"$error":"#N/A"},null,null,null,null,null,null,null,"::",null,null,null,null,null,0,0,0]
[15,null,"EXPLOCROWD","Express","Steffan Lindsø","Team ExploCrowd",null,0.85289999999999999,1.1372,"Bedrift","NOR",710,"SS",{"$error":"#DIV/0!"},{"$error":"#DIV/0!"},null,2,4.9000000000000004,{"$error":"#N/A"},{"$error":"#N/A"},{"$error":"#N/A"},{"$error":"#N/A"},{"$error":"#N/A"},{"$error":"#N/A"},{"$error":"#N/A"},{"$error":"#N/A"},{"$error":"#N/A"},{"$error":"#N/A"},null,null,null,null,null,null,null,"::",null,null,null,null,null,0,0,0]
[16,null,"Lucky Jack","J/70","Kjartan Goa",null,null,0.89559999999999995,1.1941333333333333,"Regatta","NOR",714,"GS",{"$error":"#DIV/0!"},{"$error":"#DIV/0!"},null,2,4.9000000000000004,{"$error":"#N/A"},{"$error":"#N/A"},{"$error":"#N/A"},{"$error":"#N/A"},{"$error":"#N/A"},{"$error":"#N/A"},{"$error":"#N/A"},{"$error":"#N/A"},{"$error":"#N/A"},{"$error":"#N/A"},null,null,null,null,null,null,null,"::",null,null,null,null,null,0,0,0]
[17,null,"Enigma","First 36.7","Sten Ola Rasch",null,null,0.99070000000000003,1.3209333333333333,"Regatta","NOR",11439,"GS",{"$error":"#DIV/0!"},{"$error":"#DIV/0!"},null,2,4.9000000000000004,{"$error":"#N/A"},{"$error":"#N/A"},{"$error":"#N/A"},{"$error":"#N/A"},{"$error":"#N/A"},{"$error":"#N/A"},{"$error":"#N/A"},{"$error":"#N/A"},{"$error":"#N/A"},{"$error":"#N/A"},null,null,null,null,null,null,null,"::",null,null,null,null,null,0,0,0]
[18,null,"Promineo Racing","J/109","Leif Arild Åsheim","Team Promineo",null,0.98150000000000004,1.3086666666666666,"Bedrift","NOR",11500,"GS",{"$error":"#DIV/0!"},{"$error":"#DIV/0!"},null,2,4.9000000000000004,{"$error":"#N/A"},{"$error":"#N/A"},{"$error":"#N/A"},{"$error":"#N/A"},{"$error":"#N/A"},{"$error":"#N/A"},{"$error":"#N/A"},{"$error":"#N/A"},{"$error":"#N/A"},{"$error":"#N/A"},null,null,null,null,null,null,null,"::",null,null,null,null,null,0,0,0]
[19,null,"Mithrandir","First 36.7","Harald Gellein",null,null,1.0045999999999999,1.3394666666666666,"Regatta","NOR",11555,"SS",{"$error":"#DIV/0!"},{"$error":"#DIV/0!"},null,2,4.9000000000000004,{"$error":"#N/A"},{"$error":"#N/A"},{"$error":"#N/A"},{"$error":"#N/A"},{"$error":"#N/A"},{"$error":"#N/A"},{"$error":"#N/A"},{"$error":"#N/A"},{"$error":"#N/A"},{"$error":"#N/A"},null,null,null,null,null,null,null,"::",null,null,null,null,null,0,0,0]
[20,null,"Tellus","Bavaria Match 38","Nils Bøe",null,null,1.0022,1.3362666666666665,"Regatta","NOR",11065,"SS",{"$error":"#DIV/0!"},{"$error":"#DIV/0!"},null,2,4.9000000000000004,{"$error":"#N/A"},{"$error":"#N/A"},{"$error":"#N/A"},{"$error":"#N/A"},{"$error":"#N/A"},{"$error":"#N/A"},{"$error":"#N/A"},{"$error":"#N/A"},{"$error":"#N/A"},{"$error":"#N/A"},null,null,null,null,null,null,null,"::",null,null,null,null,null,0,0,0]

{"sheet":"Startliste Skjema","index":1,"n_rows":37,"n_cols":12,"rows_kept":37,"cut":false,"hidden":false,"merged":[[1,6,1,7]]}
[null,null,null,null,null,null,{"$f":"Stavangerseilasen!G1","v":"26.august 2017"},null,null,null,null,"Startliste"]
["Start","Båtnavn","Båttype","Nor-Rating","Klasse","Løp","Seil ID",null,"Differanse","Spinn\nGen","RR A11","Kommentarer"]
[{"$f":"Stavangerseilasen!A9","v":1},{"$f":"Stavangerseilasen!C9","v":"Milestone"},{"$f":"Stavangerseilasen!D9","v":"Jeanneau SY 43DS"},{"$f":"Stavangerseilasen!H9","v":0},{"$f":"Stavangerseilasen!J9","v":"Tur / Rekr"},{"$f":"Stavangerseilasen!Q9","v":1},{"$f":"Stavangerseilasen!K9","v":"NOR"},{"$f":"Stavangerseilasen!L9","v":10250},{"$f":"Stavangerseilasen!P9","v":"00:00:00"},{"$f":"Stavangerseilasen!G9","v":0}," "," "]
[2,{"$f":"Stavangerseilasen!C10","v":"INXS"},{"$f":"Stavangerseilasen!D10","v":"Express"},{"$f":"Stavangerseilasen!H10","v":0},{"$f":"Stavangerseilasen!J10","v":"Regatta"},{"$f":"Stavangerseilasen!Q10","v":2},{"$f":"Stavangerseilasen!K10","v":"NOR"},{"$f":"Stavangerseilasen!L10","v":708},{"$f":"Stavangerseilasen!P10","v":"00:00:00"},{"$f":"Stavangerseilasen!G10","v":0}," "," "]
[{"$f":"A3+2","v":3},{"$f":"Stavangerseilasen!C11","v":"Senilix"},{"$f":"Stavangerseilasen!D11","v":"Express"},{"$f":"Stavangerseilasen!H11","v":0},{"$f":"Stavangerseilasen!J11","v":"Regatta"},{"$f":"Stavangerseilasen!Q11","v":2},{"$f":"Stavangerseilasen!K11","v":"NOR"},{"$f":"Stavangerseilasen!L11","v":1090},{"$f":"Stavangerseilasen!P11","v":"00:00:00"},{"$f":"Stavangerseilasen!G11","v":0}," "," "]
[{"$f":"A4+2","v":4},{"$f":"Stavangerseilasen!C12","v":"Sydvest"},{"$f":"Stavangerseilasen!D12","v":"Express"},{"$f":"Stavangerseilasen!H12","v":0},{"$f":"Stavangerseilasen!J12","v":"Regatta"},{"$f":"Stavangerseilasen!Q12","v":2},{"$f":"Stavangerseilasen!K12","v":"NOR"},{"$f":"Stavangerseilasen!L12","v":517},{"$f":"Stavangerseilasen!P12","v":"00:00:00"},{"$f":"Stavangerseilasen!G12","v":0}," "," "]
[{"$f":"A5+2","v":5},{"$f":"Stavangerseilasen!C13","v":"BALU"},{"$f":"Stavangerseilasen!D13","v":"Express"},{"$f":"Stavangerseilasen!H13","v":0},{"$f":"Stavangerseilasen!J13","v":"Regatta"},{"$f":"Stavangerseilasen!Q13","v":2},{"$f":"Stavangerseilasen!K13","v":"NOR"},{"$f":"Stavangerseilasen!L13","v":1062},{"$f":"Stavangerseilasen!P13","v":"00:00:00"},{"$f":"Stavangerseilasen!G13","v":0}," "," "]
[6,{"$f":"Stavangerseilasen!C14","v":"Angst"},{"$f":"Stavangerseilasen!D14","v":"Express"},{"$f":"Stavangerseilasen!H14","v":0},{"$f":"Stavangerseilasen!J14","v":"Regatta"},{"$f":"Stavangerseilasen!Q14","v":2},{"$f":"Stavangerseilasen!K14","v":"NOR"},{"$f":"Stavangerseilasen!L14","v":104},{"$f":"Stavangerseilasen!P14","v":"00:00:00"},{"$f":"Stavangerseilasen!G14","v":0}," "," "]
[7,{"$f":"Stavangerseilasen!C15","v":"Rainbow Express"},{"$f":"Stavangerseilasen!D15","v":"Express"},{"$f":"Stavangerseilasen!H15","v":0},{"$f":"Stavangerseilasen!J15","v":"Regatta"},{"$f":"Stavangerseilasen!Q15","v":2},{"$f":"Stavangerseilasen!K15","v":"NOR"},{"$f":"Stavangerseilasen!L15","v":344},{"$f":"Stavangerseilasen!P15","v":"00:00:00"},{"$f":"Stavangerseilasen!G15","v":0}," "," "]
[8,{"$f":"Stavangerseilasen!C16","v":"Raga Muffin"},{"$f":"Stavangerseilasen!D16","v":"Express"},{"$f":"Stavangerseilasen!H16","v":0},{"$f":"Stavangerseilasen!J16","v":"Regatta"},{"$f":"Stavangerseilasen!Q16","v":2},{"$f":"Stavangerseilasen!K16","v":"NOR"},{"$f":"Stavangerseilasen!L16","v":354},{"$f":"Stavangerseilasen!P16","v":"00:00:00"},{"$f":"Stavangerseilasen!G16","v":0}," "," "]
[9,{"$f":"Stavangerseilasen!C17","v":"Placebo"},{"$f":"Stavangerseilasen!D17","v":"Express"},{"$f":"Stavangerseilasen!H17","v":0},{"$f":"Stavangerseilasen!J17","v":"Regatta"},{"$f":"Stavangerseilasen!Q17","v":2},{"$f":"Stavangerseilasen!K17","v":"NOR"},{"$f":"Stavangerseilasen!L17","v":89},{"$f":"Stavangerseilasen!P17","v":"00:00:00"},{"$f":"Stavangerseilasen!G17","v":0}," "," "]
[10,{"$f":"Stavangerseilasen!C18","v":"Exit"},{"$f":"Stavangerseilasen!D18","v":"Express"},{"$f":"Stavangerseilasen!H18","v":0},{"$f":"Stavangerseilasen!J18","v":"Regatta"},{"$f":"Stavangerseilasen!Q18","v":2},{"$f":"Stavangerseilasen!K18","v":"NOR"},{"$f":"Stavangerseilasen!L18","v":734},{"$f":"Stavangerseilasen!P18","v":"00:00:00"},{"$f":"Stavangerseilasen!G18","v":0}," "," "]
[11,{"$f":"Stavangerseilasen!C19","v":"X-Menn"},{"$f":"Stavangerseilasen!D19","v":"Express"},{"$f":"Stavangerseilasen!H19","v":0},{"$f":"Stavangerseilasen!J19","v":"Regatta"},{"$f":"Stavangerseilasen!Q19","v":2},{"$f":"Stavangerseilasen!K19","v":"NOR"},{"$f":"Stavangerseilasen!L19","v":946},{"$f":"Stavangerseilasen!P19","v":"00:00:00"},{"$f":"Stavangerseilasen!G19","v":0}," "," "]
[12,{"$f":"Stavangerseilasen!C20","v":"Reflex"},{"$f":"Stavangerseilasen!D20","v":"Express"},{"$f":"Stavangerseilasen!H20","v":0},{"$f":"Stavangerseilasen!J20","v":"Regatta"},{"$f":"Stavangerseilasen!Q20","v":2},{"$f":"Stavangerseilasen!K20","v":"NOR"},{"$f":"Stavangerseilasen!L20","v":86},{"$f":"Stavangerseilasen!P20","v":"00:00:00"},{"$f":"Stavangerseilasen!G20","v":0}," "," "]
[13,{"$f":"Stavangerseilasen!C21","v":"Brexit"},{"$f":"Stavangerseilasen!D21","v":"Express"},{"$f":"Stavangerseilasen!H21","v":0},{"$f":"Stavangerseilasen!J21","v":"Regatta"},{"$f":"Stavangerseilasen!Q21","v":2},{"$f":"Stavangerseilasen!K21","v":"NOR"},{"$f":"Stavangerseilasen!L21","v":"96 / 155"},{"$f":"Stavangerseilasen!P21","v":"00:00:00"},{"$f":"Stavangerseilasen!G21","v":0}," "," "]
[14,{"$f":"Stavangerseilasen!C22","v":"Fars Cortina"},{"$f":"Stavangerseilasen!D22","v":"Express"},{"$f":"Stavangerseilasen!H22","v":0},{"$f":"Stavangerseilasen!J22","v":"Regatta"},{"$f":"Stavangerseilasen!Q22","v":2},{"$f":"Stavangerseilasen!K22","v":"NOR"},{"$f":"Stavangerseilasen!L22","v":211},{"$f":"Stavangerseilasen!P22","v":"00:00:00"},{"$f":"Stavangerseilasen!G22","v":0}," "," "]
[15,{"$f":"Stavangerseilasen!C23","v":"EXPLOCROWD"},{"$f":"Stavangerseilasen!D23","v":"Express"},{"$f":"Stavangerseilasen!H23","v":0.85289999999999999},{"$f":"Stavangerseilasen!J23","v":"Bedrift"},{"$f":"Stavangerseilasen!Q23","v":2},{"$f":"Stavangerseilasen!K23","v":"NOR"},{"$f":"Stavangerseilasen!L23","v":710},{"$f":"Stavangerseilasen!P23","v":"00:00:00"},{"$f":"Stavangerseilasen!G23","v":0}," "," "]
[16,{"$f":"Stavangerseilasen!C24","v":"Lucky Jack"},{"$f":"Stavangerseilasen!D24","v":"J/70"},{"$f":"Stavangerseilasen!H24","v":0.89559999999999995},{"$f":"Stavangerseilasen!J24","v":"Regatta"},{"$f":"Stavangerseilasen!Q24","v":2},{"$f":"Stavangerseilasen!K24","v":"NOR"},{"$f":"Stavangerseilasen!L24","v":714},{"$f":"Stavangerseilasen!P24","v":"00:00:00"},{"$f":"Stavangerseilasen!G24","v":0}," "," "]
[17,{"$f":"Stavangerseilasen!C25","v":"Enigma"},{"$f":"Stavangerseilasen!D25","v":"First 36.7"},{"$f":"Stavangerseilasen!H25","v":0.99070000000000003},{"$f":"Stavangerseilasen!J25","v":"Regatta"},{"$f":"Stavangerseilasen!Q25","v":2},{"$f":"Stavangerseilasen!K25","v":"NOR"},{"$f":"Stavangerseilasen!L25","v":11439},{"$f":"Stavangerseilasen!P25","v":"00:00:00"},{"$f":"Stavangerseilasen!G25","v":0}," "," "]
[18,{"$f":"Stavangerseilasen!C26","v":"Promineo Racing"},{"$f":"Stavangerseilasen!D26","v":"J/109"},{"$f":"Stavangerseilasen!H26","v":0.98150000000000004},{"$f":"Stavangerseilasen!J26","v":"Bedrift"},{"$f":"Stavangerseilasen!Q26","v":2},{"$f":"Stavangerseilasen!K26","v":"NOR"},{"$f":"Stavangerseilasen!L26","v":11500},{"$f":"Stavangerseilasen!P26","v":"00:00:00"},{"$f":"Stavangerseilasen!G26","v":0}," "," "]
[19,{"$f":"Stavangerseilasen!C27","v":"Mithrandir"},{"$f":"Stavangerseilasen!D27","v":"First 36.7"},{"$f":"Stavangerseilasen!H27","v":1.0045999999999999},{"$f":"Stavangerseilasen!J27","v":"Regatta"},{"$f":"Stavangerseilasen!Q27","v":2},{"$f":"Stavangerseilasen!K27","v":"NOR"},{"$f":"Stavangerseilasen!L27","v":11555},{"$f":"Stavangerseilasen!P27","v":"00:00:00"},{"$f":"Stavangerseilasen!G27","v":0}," "," "]
[20,{"$f":"Stavangerseilasen!C28","v":"Tellus"},{"$f":"Stavangerseilasen!D28","v":"Bavaria Match 38"},{"$f":"Stavangerseilasen!H28","v":1.0022},{"$f":"Stavangerseilasen!J28","v":"Regatta"},{"$f":"Stavangerseilasen!Q28","v":2},{"$f":"Stavangerseilasen!K28","v":"NOR"},{"$f":"Stavangerseilasen!L28","v":11065},{"$f":"Stavangerseilasen!P28","v":"00:00:00"},{"$f":"Stavangerseilasen!G28","v":0}," "," "]
[21,{"$f":"Stavangerseilasen!#REF!","v":{"$error":"#REF!"}},{"$f":"Stavangerseilasen!#REF!","v":{"$error":"#REF!"}},{"$f":"Stavangerseilasen!#REF!","v":{"$error":"#REF!"}},{"$f":"Stavangerseilasen!#REF!","v":{"$error":"#REF!"}},{"$f":"Stavangerseilasen!#REF!","v":{"$error":"#REF!"}},{"$f":"Stavangerseilasen!#REF!","v":{"$error":"#REF!"}},{"$f":"Stavangerseilasen!#REF!","v":{"$error":"#REF!"}},{"$f":"Stavangerseilasen!#REF!","v":{"$error":"#REF!"}},{"$f":"Stavangerseilasen!#REF!","v":{"$error":"#REF!"}}," "," "]
[22,{"$f":"Stavangerseilasen!#REF!","v":{"$error":"#REF!"}},{"$f":"Stavangerseilasen!#REF!","v":{"$error":"#REF!"}},{"$f":"Stavangerseilasen!#REF!","v":{"$error":"#REF!"}},{"$f":"Stavangerseilasen!#REF!","v":{"$error":"#REF!"}},{"$f":"Stavangerseilasen!#REF!","v":{"$error":"#REF!"}},{"$f":"Stavangerseilasen!#REF!","v":{"$error":"#REF!"}},{"$f":"Stavangerseilasen!#REF!","v":{"$error":"#REF!"}},{"$f":"Stavangerseilasen!#REF!","v":{"$error":"#REF!"}},{"$f":"Stavangerseilasen!#REF!","v":{"$error":"#REF!"}}," "," "]
[23,{"$f":"Stavangerseilasen!#REF!","v":{"$error":"#REF!"}},{"$f":"Stavangerseilasen!#REF!","v":{"$error":"#REF!"}},{"$f":"Stavangerseilasen!#REF!","v":{"$error":"#REF!"}},{"$f":"Stavangerseilasen!#REF!","v":{"$error":"#REF!"}},{"$f":"Stavangerseilasen!#REF!","v":{"$error":"#REF!"}},{"$f":"Stavangerseilasen!#REF!","v":{"$error":"#REF!"}},{"$f":"Stavangerseilasen!#REF!","v":{"$error":"#REF!"}},{"$f":"Stavangerseilasen!#REF!","v":{"$error":"#REF!"}},{"$f":"Stavangerseilasen!#REF!","v":{"$error":"#REF!"}}," "," "]
[24,{"$f":"Stavangerseilasen!#REF!","v":{"$error":"#REF!"}},{"$f":"Stavangerseilasen!#REF!","v":{"$error":"#REF!"}},{"$f":"Stavangerseilasen!#REF!","v":{"$error":"#REF!"}},{"$f":"Stavangerseilasen!#REF!","v":{"$error":"#REF!"}},{"$f":"Stavangerseilasen!#REF!","v":{"$error":"#REF!"}},{"$f":"Stavangerseilasen!#REF!","v":{"$error":"#REF!"}},{"$f":"Stavangerseilasen!#REF!","v":{"$error":"#REF!"}},{"$f":"Stavangerseilasen!#REF!","v":{"$error":"#REF!"}},{"$f":"Stavangerseilasen!#REF!","v":{"$error":"#REF!"}}," "," "]
[25,{"$f":"Stavangerseilasen!#REF!","v":{"$error":"#REF!"}},{"$f":"Stavangerseilasen!#REF!","v":{"$error":"#REF!"}},{"$f":"Stavangerseilasen!#REF!","v":{"$error":"#REF!"}},{"$f":"Stavangerseilasen!#REF!","v":{"$error":"#REF!"}},{"$f":"Stavangerseilasen!#REF!","v":{"$error":"#REF!"}},{"$f":"Stavangerseilasen!#REF!","v":{"$error":"#REF!"}},{"$f":"Stavangerseilasen!#REF!","v":{"$error":"#REF!"}},{"$f":"Stavangerseilasen!#REF!","v":{"$error":"#REF!"}},{"$f":"Stavangerseilasen!#REF!","v":{"$error":"#REF!"}}," "," "]
[26,{"$f":"Stavangerseilasen!#REF!","v":{"$error":"#REF!"}},{"$f":"Stavangerseilasen!#REF!","v":{"$error":"#REF!"}},{"$f":"Stavangerseilasen!#REF!","v":{"$error":"#REF!"}},{"$f":"Stavangerseilasen!#REF!","v":{"$error":"#REF!"}},{"$f":"Stavangerseilasen!#REF!","v":{"$error":"#REF!"}},{"$f":"Stavangerseilasen!#REF!","v":{"$error":"#REF!"}},{"$f":"Stavangerseilasen!#REF!","v":{"$error":"#REF!"}},{"$f":"Stavangerseilasen!#REF!","v":{"$error":"#REF!"}},{"$f":"Stavangerseilasen!#REF!","v":{"$error":"#REF!"}}," "," "]
[27,{"$f":"Stavangerseilasen!#REF!","v":{"$error":"#REF!"}},{"$f":"Stavangerseilasen!#REF!","v":{"$error":"#REF!"}},{"$f":"Stavangerseilasen!#REF!","v":{"$error":"#REF!"}},{"$f":"Stavangerseilasen!#REF!","v":{"$error":"#REF!"}},{"$f":"Stavangerseilasen!#REF!","v":{"$error":"#REF!"}},{"$f":"Stavangerseilasen!#REF!","v":{"$error":"#REF!"}},{"$f":"Stavangerseilasen!#REF!","v":{"$error":"#REF!"}},{"$f":"Stavangerseilasen!#REF!","v":{"$error":"#REF!"}},{"$f":"Stavangerseilasen!#REF!","v":{"$error":"#REF!"}}," "," "]
[28,{"$f":"Stavangerseilasen!#REF!","v":{"$error":"#REF!"}},{"$f":"Stavangerseilasen!#REF!","v":{"$error":"#REF!"}},{"$f":"Stavangerseilasen!#REF!","v":{"$error":"#REF!"}},{"$f":"Stavangerseilasen!#REF!","v":{"$error":"#REF!"}},{"$f":"Stavangerseilasen!#REF!","v":{"$error":"#REF!"}},{"$f":"Stavangerseilasen!#REF!","v":{"$error":"#REF!"}},{"$f":"Stavangerseilasen!#REF!","v":{"$error":"#REF!"}},{"$f":"Stavangerseilasen!#REF!","v":{"$error":"#REF!"}},{"$f":"Stavangerseilasen!#REF!","v":{"$error":"#REF!"}}," "," "]
[29,{"$f":"Stavangerseilasen!#REF!","v":{"$error":"#REF!"}},{"$f":"Stavangerseilasen!#REF!","v":{"$error":"#REF!"}},{"$f":"Stavangerseilasen!#REF!","v":{"$error":"#REF!"}},{"$f":"Stavangerseilasen!#REF!","v":{"$error":"#REF!"}},{"$f":"Stavangerseilasen!#REF!","v":{"$error":"#REF!"}},{"$f":"Stavangerseilasen!#REF!","v":{"$error":"#REF!"}},{"$f":"Stavangerseilasen!#REF!","v":{"$error":"#REF!"}},{"$f":"Stavangerseilasen!#REF!","v":{"$error":"#REF!"}},{"$f":"Stavangerseilasen!#REF!","v":{"$error":"#REF!"}}," "," "]
[30,{"$f":"Stavangerseilasen!#REF!","v":{"$error":"#REF!"}},{"$f":"Stavangerseilasen!#REF!","v":{"$error":"#REF!"}},{"$f":"Stavangerseilasen!#REF!","v":{"$error":"#REF!"}},{"$f":"Stavangerseilasen!#REF!","v":{"$error":"#REF!"}},{"$f":"Stavangerseilasen!#REF!","v":{"$error":"#REF!"}},{"$f":"Stavangerseilasen!#REF!","v":{"$error":"#REF!"}},{"$f":"Stavangerseilasen!#REF!","v":{"$error":"#REF!"}},{"$f":"Stavangerseilasen!#REF!","v":{"$error":"#REF!"}},{"$f":"Stavangerseilasen!#REF!","v":{"$error":"#REF!"}}," "," "]
[31,{"$f":"Stavangerseilasen!#REF!","v":{"$error":"#REF!"}},{"$f":"Stavangerseilasen!#REF!","v":{"$error":"#REF!"}},{"$f":"Stavangerseilasen!#REF!","v":{"$error":"#REF!"}},{"$f":"Stavangerseilasen!#REF!","v":{"$error":"#REF!"}},{"$f":"Stavangerseilasen!#REF!","v":{"$error":"#REF!"}},{"$f":"Stavangerseilasen!#REF!","v":{"$error":"#REF!"}},{"$f":"Stavangerseilasen!#REF!","v":{"$error":"#REF!"}},{"$f":"Stavangerseilasen!#REF!","v":{"$error":"#REF!"}},{"$f":"Stavangerseilasen!#REF!","v":{"$error":"#REF!"}}," "," "]
[32,{"$f":"Stavangerseilasen!#REF!","v":{"$error":"#REF!"}},{"$f":"Stavangerseilasen!#REF!","v":{"$error":"#REF!"}},{"$f":"Stavangerseilasen!#REF!","v":{"$error":"#REF!"}},{"$f":"Stavangerseilasen!#REF!","v":{"$error":"#REF!"}},{"$f":"Stavangerseilasen!#REF!","v":{"$error":"#REF!"}},{"$f":"Stavangerseilasen!#REF!","v":{"$error":"#REF!"}},{"$f":"Stavangerseilasen!#REF!","v":{"$error":"#REF!"}},{"$f":"Stavangerseilasen!#REF!","v":{"$error":"#REF!"}},{"$f":"Stavangerseilasen!#REF!","v":{"$error":"#REF!"}}," "," "]
[33,{"$f":"Stavangerseilasen!#REF!","v":{"$error":"#REF!"}},{"$f":"Stavangerseilasen!#REF!","v":{"$error":"#REF!"}},{"$f":"Stavangerseilasen!#REF!","v":{"$error":"#REF!"}},{"$f":"Stavangerseilasen!#REF!","v":{"$error":"#REF!"}},{"$f":"Stavangerseilasen!#REF!","v":{"$error":"#REF!"}},{"$f":"Stavangerseilasen!#REF!","v":{"$error":"#REF!"}},{"$f":"Stavangerseilasen!#REF!","v":{"$error":"#REF!"}},{"$f":"Stavangerseilasen!#REF!","v":{"$error":"#REF!"}},{"$f":"Stavangerseilasen!#REF!","v":{"$error":"#REF!"}}," "," "]
[34,{"$f":"Stavangerseilasen!#REF!","v":{"$error":"#REF!"}},{"$f":"Stavangerseilasen!#REF!","v":{"$error":"#REF!"}},{"$f":"Stavangerseilasen!#REF!","v":{"$error":"#REF!"}},{"$f":"Stavangerseilasen!#REF!","v":{"$error":"#REF!"}},{"$f":"Stavangerseilasen!#REF!","v":{"$error":"#REF!"}},{"$f":"Stavangerseilasen!#REF!","v":{"$error":"#REF!"}},{"$f":"Stavangerseilasen!#REF!","v":{"$error":"#REF!"}},{"$f":"Stavangerseilasen!#REF!","v":{"$error":"#REF!"}},{"$f":"Stavangerseilasen!#REF!","v":{"$error":"#REF!"}}," "," "]
[35,{"$f":"Stavangerseilasen!#REF!","v":{"$error":"#REF!"}},{"$f":"Stavangerseilasen!#REF!","v":{"$error":"#REF!"}},{"$f":"Stavangerseilasen!#REF!","v":{"$error":"#REF!"}},{"$f":"Stavangerseilasen!#REF!","v":{"$error":"#REF!"}},{"$f":"Stavangerseilasen!#REF!","v":{"$error":"#REF!"}},{"$f":"Stavangerseilasen!#REF!","v":{"$error":"#REF!"}},{"$f":"Stavangerseilasen!#REF!","v":{"$error":"#REF!"}},{"$f":"Stavangerseilasen!#REF!","v":{"$error":"#REF!"}},{"$f":"Stavangerseilasen!#REF!","v":{"$error":"#REF!"}}," "," "]

{"sheet":"Målgang Skjema","index":2,"n_rows":52,"n_cols":12,"rows_kept":52,"cut":false,"hidden":false,"merged":[[1,1,1,3]]}
[null,null,null,null,null,{"$f":"Stavangerseilasen!G1","v":"26.august 2017"},"Målgang"]
["Plassering","Seil ID",null,null,"RR A11","Målgang","Kommentarer","ID - siffer","t t","m m","s s","Målgang"]
[1,null,"-",null,null," -             -"," ",null,12,12,12,{"$f":"IF(E3<>0,\"24:00:00\",I3&\":\"&J3&\":\"&K3)","v":"12:12:12"}]
[2,null,"-",null,null," -             -"," ",null,12,{"$f":"J3+1","v":13},12,"12:13:12"]
[3,null,"-",null,null," -             -"," ",null,12,14,{"$f":"K4+1","v":13},"12:14:13"]
[{"$f":"A5+1","v":4},null,"-",null,null," -             -"," ",null,12,15,14,"12:15:14"]
[{"$f":"A6+1","v":5},null,"-",null,null," -             -"," ",null,12,16,15,"12:16:15"]
[{"$f":"A7+1","v":6},null,"-",null,null," -             -"," ",null,12,17,16,"12:17:16"]
[7,null,"-",null,null," -             -"," ",null,12,18,17,"12:18:17"]
[8,null,"-",null,null," -             -"," ",null,12,19,18,"12:19:18"]
[9,null,"-",null,null," -             -"," ",null,12,20,19,"12:20:19"]
[10,null,"-",null,null," -             -"," ",null,12,21,20,"12:21:20"]
[11,null,"-",null,null," -             -"," ",null,12,22,21,"12:22:21"]
[12,null,"-",null,null," -             -"," ",null,12,23,22,"12:23:22"]
[13,null,"-",null,null," -             -"," ",null,12,24,23,"12:24:23"]
[14,null,"-",null,null," -             -"," ",null,12,25,24,"12:25:24"]
[15,null,"-",null,null," -             -"," ",null,12,26,25,"12:26:25"]
[16,null,"-",null,null," -             -"," ",null,12,27,26,"12:27:26"]
[17,null,"-",null,null," -             -"," ",null,12,28,27,"12:28:27"]
[18,null,"-",null,null," -             -"," ",null,12,29,28,"12:29:28"]
[19,null,"-",null,null," -             -"," ",null,12,30,29,"12:30:29"]
[20,null,"-",null,null," -             -"," ",null,12,31,30,"12:31:30"]
[21,null,"-",null,null," -             -"," ",null,12,32,31,"12:32:31"]
[22,null,"-",null,null," -             -"," ",null,12,33,32,"12:33:32"]
[23,null,"-",null,null," -             -"," ",null,12,34,33,"12:34:33"]
[24,null,"-",null,null," -             -"," ",null,12,35,34,"12:35:34"]
[25,null,"-",null,null," -             -"," ",null,12,36,35,"12:36:35"]
[26,null,"-",null,null," -             -"," ",null,12,37,36,"12:37:36"]
[27,null,"-",null,null," -             -"," ",null,12,38,37,"12:38:37"]
[28,null,"-",null,null," -             -"," ",null,12,39,38,"12:39:38"]
[29,null,"-",null,null," -             -"," ",null,12,40,39,"12:40:39"]
[30,null,"-",null,null," -             -"," ",null,12,41,40,"12:41:40"]
[31,null,"-",null,null," -             -"," ",null,12,42,41,"12:42:41"]
[32,null,"-",null,null," -             -"," ",null,12,43,42,"12:43:42"]
[33,null,"-",null,null," -             -"," ",null,12,44,43,"12:44:43"]
[34,null,"-",null,null," -             -"," ",null,12,45,44,"12:45:44"]
[35,null,"-",null,null," -             -"," ",null,12,46,45,"12:46:45"]
[36,null,"-",null,null," -             -"," ",null,12,{"$f":"J37+1","v":47},46,"12:47:46"]
[37,null,"-",null,null," -             -"," ",null,12,48,47,{"$f":"IF(E39<>0,\"24:00:00\",I39&\":\"&J39&\":\"&K39)","v":"12:48:47"}]
[38,null,"-",null,null," -             -"," ",null,12,49,48,{"$f":"IF(E40<>0,\"24:00:00\",I40&\":\"&J40&\":\"&K40)","v":"12:49:48"}]
[39,null,"-",null,null," -             -"," ",null,12,{"$f":"J40+1","v":50},{"$f":"K40+1","v":49},{"$f":"IF(E41<>0,\"24:00:00\",I41&\":\"&J41&\":\"&K41)","v":"12:50:49"}]
[40,null,"-",null,null," -             -"," ",null,12,51,50,"12:51:50"]
[41,null,"-",null,null," -             -"," ",null,12,52,51,"12:52:51"]
[42,null,"-",null,null," -             -"," ",null,12,53,52,"12:53:52"]
[43,null,"-",null,null," -             -"," ",null,12,54,53,"12:54:53"]
[44,null,"-",null,null," -             -"," ",null,12,55,54,"12:55:54"]
[45,null,"-",null,null," -             -"," ",null,12,56,55,"12:56:55"]
[46,null,"-",null,null," -             -"," ",null,12,57,56,"12:57:56"]
[47,null,"-",null,null," -             -"," ",null,12,58,57,"12:58:57"]
[48,null,"-",null,null," -             -"," ",null,12,59,58,"12:59:58"]
[49,null,"-",null,null," -             -"," ",null,12,60,59,"12:60:59"]
[50,null,"-",null,null," -             -"," ",null,12,61,60,"12:61:60"]

{"sheet":"Baner og koordinater","index":3,"n_rows":33,"n_cols":10,"rows_kept":33,"cut":false,"hidden":false,"merged":[]}
[null,"Bane",1,"Koordinat","Bane",2]
["Leg","Distanse",10.1,null,"Distanse",11.3,null,{"$f":"(F2-C2)/F2","v":0.10619469026548681}]
[0,"Vågen",0,null,"Vågen",0]
[1,"V av Maraskjær",1.75,null,"V av Maraskjær",1.75,null,"Ref LYS B1",{"$f":"#REF!","v":{"$error":"#REF!"}}]
[2,"Storholmgrunnen BB",2.2200000000000002,"N 59.01.46 - E 5.44.47","Vardeneset SB",0.57999999999999996,null,"Ref LYS B2",{"$f":"#REF!","v":{"$error":"#REF!"}}]
[3,"Vardeneset BB",2.56,"N 59.00.00 - E 5.40.50","Storholmgrunnen BB",2.56,"N 59.01.58 - E 5.44.66"]
[4,"V av Maraskjær",0.57999999999999996,null,"Vardeneset BB",2.56,"N 59.00.00 - E 5.40.78"]
[5,"Vågen",1.75,null,"V av Maraskjær",0.57999999999999996]
[6,"Rødt Merke Plentinggrunnen",null,null,"Vågen",1.75]
[7,null,0.74,null,"Grønt merke Plentinggrunnen",0.42]
[null,null,null,null,null,0.4]
[null,null,null,"Banekorreksjonsbehov, Bane 2",11,{"$f":"VLOOKUP(E12,H12:I33,2,FALSE)","v":0},null,"Banekorreksjon","Distanse"]
[null,null,null,null,null,null,null,1,{"$f":"J13/10","v":-1},-10]
[null,"Antall",{"$f":"COUNTIF(Stavangerseilasen!Q8:Q32,1)","v":1},null,null,{"$f":"COUNTIF(Stavangerseilasen!Q8:Q32,2)","v":19},null,2,{"$f":"J14/10","v":-0.9},-9]
[null,"Max TD",null,{"$f":"MAXA(Stavangerseilasen!P8:P32)","v":"00:00:00"},null,null,null,3,-0.8,-8]
[null,null,null,null,null,null,null,4,-0.7,-7]
[null,null,null,null,null,null,null,5,-0.6,-6]
[null,null,null,null,null,null,null,6,-0.5,-5]
[null,null,4.4000000000000004,null,null,null,null,7,-0.4,-4]
[null,null,2,null,null,null,null,8,-0.3,-3]
[null,null,null,null,null,null,null,9,-0.2,-2]
[null,null,null,null,null,null,null,10,-0.1,-1]
[null,null,null,null,null,null,null,11,0,1]
[null,null,null,null,null,null,null,12,{"$f":"J23/10","v":0.1},2]
[null,null,null,null,null,null,null,13,0.2,3]
[null,null,null,null,null,null,null,14,0.3,4]
[null,null,null,null,null,null,null,15,0.4,5]
[null,null,null,null,null,null,null,16,0.5,6]
[null,null,null,null,null,null,null,17,0.6,7]
[null,null,null,null,null,null,null,18,0.7,8]
[null,null,null,null,null,null,null,19,0.8,9]
[null,null,null,null,null,null,null,20,0.9,10]
[null,null,null,null,null,null,null,21,1]